BEGIN:VCALENDAR
PRODID:-//github.com/rianjs/ical.net//NONSGML ical.net 4.0//EN
VERSION:2.0
BEGIN:VEVENT
DESCRIPTION:Details:\nhttps://bbyo.org/bbyo-near-you/regions/michigan-regi
 on/teen-connection-kickoff-dance
DTEND:20050917T223000
DTSTAMP:20260423T020724Z
DTSTART:20050917T203000
LOCATION:Cong. Beth AHM
SEQUENCE:0
SUMMARY:Teen Connection Kickoff Dance
UID:4e37d5fc-da3e-4379-abf5-b34082bc9ecc
END:VEVENT
END:VCALENDAR
