BEGIN:VCALENDAR
PRODID:-//github.com/rianjs/ical.net//NONSGML ical.net 4.0//EN
VERSION:2.0
BEGIN:VEVENT
DESCRIPTION:Details:\nhttps://bbyo.org/bbyo-near-you/regions/greater-atlan
 ta-region/junior-senior-trip\n\nSummary:\nCalifornia\, California Here We
  Come... Junior/Seniort Trip to Los Angeles\, CA\nHighlights:\nJewish Sec
 tion of Los Angeles\nMuseum of Tolerance\nThe Grove (a hip shopping area)
 \nBeverly Hills
DTEND:20061229T120000
DTSTAMP:20260421T083924Z
DTSTART:20061225T070000
LOCATION:Los Angeles\, California
SEQUENCE:0
SUMMARY:Junior/Senior Trip
UID:1f804fd5-ae81-47a2-9164-a14a9c0f45cd
END:VEVENT
END:VCALENDAR
