BEGIN:VCALENDAR
PRODID:-//github.com/rianjs/ical.net//NONSGML ical.net 4.0//EN
VERSION:2.0
BEGIN:VEVENT
DESCRIPTION:Details:\nhttps://bbyo.org/bbyo-near-you/regions/northern-regi
 on-east-dc-council/howard-county-fall-family-picnic\n\nSummary:\nWhether 
 you're a long-time part of the BBYO community or someone who's interested
  in trying it out for the first time\, join BBYO for our Fall Family Picn
 ic and Parent Information Session! Te
DTEND:20160918T160000
DTSTAMP:20260423T133830Z
DTSTART:20160918T140000
LOCATION:Centennial Park
SEQUENCE:0
SUMMARY:Howard County Fall Family Picnic
UID:32ff25ca-7938-4592-a749-0b2f437d8142
END:VEVENT
END:VCALENDAR
