BEGIN:VCALENDAR
PRODID:-//github.com/rianjs/ical.net//NONSGML ical.net 4.0//EN
VERSION:2.0
BEGIN:VEVENT
DESCRIPTION:Details:\nhttps://bbyo.org/bbyo-near-you/regions/rocky-mountai
 n-region/denver-chapter-meetings-10-10-06
DTEND:20061010T204500
DTSTAMP:20260426T030257Z
DTSTART:20061010T191500
LOCATION:Denver JCC
SEQUENCE:0
SUMMARY:Denver Chapter Meetings 10/10/06
UID:95accbbc-e260-46d3-9171-4134b2935bbf
END:VEVENT
END:VCALENDAR
