BEGIN:VCALENDAR
PRODID:-//github.com/rianjs/ical.net//NONSGML ical.net 4.0//EN
VERSION:2.0
BEGIN:VEVENT
DESCRIPTION:Details:\nhttps://bbyo.org/bbyo-near-you/regions/hudson-valley
 -region/hvr-winter-kickoff-bbyo-goes-to-the-knicks
DTEND:20230204T230000
DTSTAMP:20260423T201257Z
DTSTART:20230204T172000
LOCATION:Madison Square Garden
SEQUENCE:0
SUMMARY:HVR Winter Kickoff: BBYO Goes to the Knicks
UID:068c4d0b-08d7-40ea-a175-a794cdc9072c
END:VEVENT
END:VCALENDAR
