BEGIN:VCALENDAR
PRODID:-//github.com/rianjs/ical.net//NONSGML ical.net 4.0//EN
VERSION:2.0
BEGIN:VEVENT
DESCRIPTION:Details:\nhttps://bbyo.org/bbyo-near-you/regions/new-england-r
 egion/ner-winter-kallah-2018
DTEND;VALUE=DATE:20180128
DTSTAMP:20260423T002104Z
DTSTART;VALUE=DATE:20180126
LOCATION:
SEQUENCE:0
SUMMARY:NER Winter Kallah 2018
UID:e0a6d6b2-2528-4766-b114-69da79c310f6
END:VEVENT
END:VCALENDAR
