BEGIN:VCALENDAR
PRODID:-//github.com/rianjs/ical.net//NONSGML ical.net 4.0//EN
VERSION:2.0
BEGIN:VEVENT
DESCRIPTION:Details:\nhttps://bbyo.org/bbyo-near-you/regions/great-midwest
 -region/spring-convention-2022\n\nSummary:\nJoin teens from across Illino
 is for a weekend full of connecting with new and old friends\, building c
 ommunity\, hearing from guest speakers\, celebrating our graduating senio
 rs\, taking part in electing our next Regional Board\, and SO MUCH MORE!
DTEND:20220410T150000
DTSTAMP:20260425T194121Z
DTSTART:20220408T170000
LOCATION:Deerfield Illinois
SEQUENCE:0
SUMMARY:Spring Convention 2022
UID:83280862-2e9d-4dca-9231-a67c142c191b
END:VEVENT
END:VCALENDAR
