BEGIN:VCALENDAR
PRODID:-//github.com/rianjs/ical.net//NONSGML ical.net 4.0//EN
VERSION:2.0
BEGIN:VEVENT
DESCRIPTION:Details:\nhttps://bbyo.org/bbyo-near-you/regions/north-texas-o
 klahoma-region/fall-term-presidents-meeting
DTEND:20220811T200000
DTSTAMP:20260425T235051Z
DTSTART:20220811T183000
LOCATION:Plano Texas
SEQUENCE:0
SUMMARY:Fall Term Presidents Meeting
UID:f7426b06-4d1c-4c9d-b277-a3020a1056cf
END:VEVENT
END:VCALENDAR
