BEGIN:VCALENDAR
PRODID:-//github.com/rianjs/ical.net//NONSGML ical.net 4.0//EN
VERSION:2.0
BEGIN:VEVENT
DESCRIPTION:Details:\nhttps://bbyo.org/bbyo-near-you/regions/pacific-weste
 rn-region/pwr-battle-of-the-chapters-2015-(pc-3000)-regu\n\nSummary:\nBat
 tle of the Chapters 2015!! SUPERHEROES!
DTEND:20151108T120000
DTSTAMP:20260419T185746Z
DTSTART:20151106T180000
LOCATION:Camp Alonim
SEQUENCE:0
SUMMARY:PWR - Battle of the Chapters 2015 (PC 3000) - Regular Price
UID:3340f96b-f60f-4d51-a900-699275e7bfb0
END:VEVENT
END:VCALENDAR
