BEGIN:VCALENDAR
PRODID:-//github.com/rianjs/ical.net//NONSGML ical.net 4.0//EN
VERSION:2.0
BEGIN:VEVENT
DESCRIPTION:Details:\nhttps://bbyo.org/bbyo-near-you/regions/pacific-weste
 rn-region/day-3-bbyo-maccabi-hang-time
DTEND;VALUE=DATE:20220807
DTSTAMP:20260423T052527Z
DTSTART;VALUE=DATE:20220806
LOCATION:Maccabi Games in San Diego
SEQUENCE:0
SUMMARY:Day 3 - BBYO Maccabi Hang Time
UID:f7947ed0-a3bd-4d55-98d4-c946ec9681f2
END:VEVENT
END:VCALENDAR
