BEGIN:VCALENDAR
PRODID:-//github.com/rianjs/ical.net//NONSGML ical.net 4.0//EN
VERSION:2.0
BEGIN:VEVENT
DESCRIPTION:Details:\nhttps://bbyo.org/bbyo-near-you/regions/great-midwest
 -region/gmr-aza-chicago-wolves-event-february-26-(\n\nSummary:\nRegister 
 here for the Chicago Wolves AZA - Boys Experience on Saturday\, February 
 25th!  \n\nQuestions? Contact gmr@bbyo.org
DTEND:20170225T220000
DTSTAMP:20260419T190139Z
DTSTART:20170225T180000
LOCATION:Chicago Wolves Arena - Buses from Across Chicagoland
SEQUENCE:0
SUMMARY:GMR - AZA - Chicago Wolves Event - February 26   (PC 2110)
UID:b516b9e0-c856-41c5-8e9e-29c4f4f6d4fb
END:VEVENT
END:VCALENDAR
