BEGIN:VCALENDAR
PRODID:-//github.com/rianjs/ical.net//NONSGML ical.net 4.0//EN
VERSION:2.0
BEGIN:VEVENT
DESCRIPTION:Details:\nhttps://bbyo.org/bbyo-near-you/regions/northern-regi
 on-east-dc-council/nre-regional-convention-2016-flash-sale-(pc301\n\nSumm
 ary:\n(THIS LINK IS FOR THE 1 DAY FLASH SALE- LINK WILL ONLY BE LIVE ON 1
 1/30) Regional Convention (RC) is the annual event where DC\, Baltimore\,
  and Northern Virginia Council's come together to tr
DTEND:20160118T120000
DTSTAMP:20260425T123920Z
DTSTART:20160115T160000
LOCATION:Hilton Alexandria Mark Center
SEQUENCE:0
SUMMARY:NRE - Regional Convention 2016 - FLASH SALE (PC3010)
UID:2f705155-c2a4-4895-a6f7-3fa8738cac6d
END:VEVENT
END:VCALENDAR
