BEGIN:VCALENDAR
PRODID:-//github.com/rianjs/ical.net//NONSGML ical.net 4.0//EN
VERSION:2.0
BEGIN:VEVENT
DESCRIPTION:Details:\nhttps://bbyo.org/bbyo-near-you/regions/eastern-regio
 n/regional-convention-transportation-2023
DTEND:20231224T100000
DTSTAMP:20260420T112137Z
DTSTART:20231222T100000
LOCATION:
SEQUENCE:0
SUMMARY:Regional Convention Transportation 2023
UID:ca3d66af-4b10-4b09-93e8-f031677a843d
END:VEVENT
END:VCALENDAR
