BEGIN:VCALENDAR
PRODID:-//github.com/rianjs/ical.net//NONSGML ical.net 4.0//EN
VERSION:2.0
BEGIN:VEVENT
DESCRIPTION:Details:\nhttps://bbyo.org/bbyo-near-you/regions/keystone-moun
 tain-region/kmr-goes-snow-tubing
DTEND:20230211T210000
DTSTAMP:20260422T221457Z
DTSTART:20230211T190000
LOCATION:Boyce Park
SEQUENCE:0
SUMMARY:KMR Goes Snow Tubing
UID:035d7c1a-41f7-4c68-8b5e-1590350af015
END:VEVENT
END:VCALENDAR
