BEGIN:VCALENDAR
PRODID:-//github.com/rianjs/ical.net//NONSGML ical.net 4.0//EN
VERSION:2.0
BEGIN:VEVENT
DESCRIPTION:Details:\nhttps://bbyo.org/bbyo-near-you/regions/big-apple-reg
 ion/teen-connection-chocolate-seder\n\nSummary:\nJoin us on the Journey t
 hrough the land of Hershey and onto the Exodus from Pennsylvania. Bring y
 our sweet tooth!
DTEND:20060403T193000
DTSTAMP:20260425T194146Z
DTSTART:20060403T193000
LOCATION:Bay Terrace Jewish Center
SEQUENCE:0
SUMMARY:Teen Connection Chocolate Seder
UID:be73f1b9-999e-49e0-a225-2ed89731eb98
END:VEVENT
END:VCALENDAR
