BEGIN:VCALENDAR
PRODID:-//github.com/rianjs/ical.net//NONSGML ical.net 4.0//EN
VERSION:2.0
BEGIN:VEVENT
DESCRIPTION:Details:\nhttps://bbyo.org/bbyo-near-you/regions/north-texas-o
 klahoma-region/regional-board-meeting-(2)
DTEND:20210923T203000
DTSTAMP:20260421T142127Z
DTSTART:20210923T193000
LOCATION:Starbucks PnF
SEQUENCE:0
SUMMARY:Regional Board Meeting
UID:c29537ed-bf4b-4a58-a09a-af74cc2895cf
END:VEVENT
END:VCALENDAR
