BEGIN:VCALENDAR
PRODID:-//github.com/rianjs/ical.net//NONSGML ical.net 4.0//EN
VERSION:2.0
BEGIN:VEVENT
DESCRIPTION:Details:\nhttps://bbyo.org/bbyo-near-you/regions/keystone-moun
 tain-region/kmr-bowling!\n\nSummary:\nJoin KMR as the AZA's will come fro
 m their Wing Night and the BBG's come from Karaoke to come together and b
 owl! Contact Alex Cohen or Julie Missry with questions!
DTEND:20170318T223000
DTSTAMP:20260423T200442Z
DTSTART:20170318T203000
LOCATION:Forward Lanes
SEQUENCE:0
SUMMARY:KMR Bowling!
UID:3db7833f-8ef8-4070-a32c-5f5eda669827
END:VEVENT
END:VCALENDAR
