BEGIN:VCALENDAR
PRODID:-//github.com/rianjs/ical.net//NONSGML ical.net 4.0//EN
VERSION:2.0
BEGIN:VEVENT
DESCRIPTION:Details:\nhttps://bbyo.org/bbyo-near-you/regions/wisconsin-reg
 ion/november-chapter-night
DTEND:20231106T210000
DTSTAMP:20260424T083358Z
DTSTART:20231106T190000
LOCATION:Sinai
SEQUENCE:0
SUMMARY:November Chapter Night
UID:7b53ad28-fde5-4148-b9be-bd55b26d0da8
END:VEVENT
END:VCALENDAR
