BEGIN:VCALENDAR
PRODID:-//github.com/rianjs/ical.net//NONSGML ical.net 4.0//EN
VERSION:2.0
BEGIN:VEVENT
DESCRIPTION:Details:\nhttps://bbyo.org/bbyo-near-you/regions/miami-region/
 miami-mit-ait-convention-2019\n\nSummary:\nAre you a new member of Miami 
 Region? Have you not attended MIT/AIT convention? Join us the weekend of 
 January 25th for a convention designed especially for you! New members of
  BBYO will spe
DTEND:20190127T153000
DTSTAMP:20260422T101450Z
DTSTART:20190125T153000
LOCATION:Lake Placid Florida
SEQUENCE:0
SUMMARY:Miami MIT/AIT Convention 2019
UID:6dcb2f49-1843-484b-9fe3-34227ee88e51
END:VEVENT
END:VCALENDAR
