BEGIN:VCALENDAR
PRODID:-//github.com/rianjs/ical.net//NONSGML ical.net 4.0//EN
VERSION:2.0
BEGIN:VEVENT
DESCRIPTION:Details:\nhttps://bbyo.org/bbyo-near-you/regions/northern-regi
 on-east-baltimore-council/baltimore-boat-bash-2024-yacht-party-kickoff
DTEND:20240914T223000
DTSTAMP:20260423T201124Z
DTSTART:20240914T193000
LOCATION:Essex Maryland
SEQUENCE:0
SUMMARY:Baltimore Boat Bash: 2024 Yacht Party Kickoff
UID:527f429e-2c52-4fd6-a81e-3099458351f7
END:VEVENT
END:VCALENDAR
