BEGIN:VCALENDAR
PRODID:-//github.com/rianjs/ical.net//NONSGML ical.net 4.0//EN
VERSION:2.0
BEGIN:VEVENT
DESCRIPTION:Details:\nhttps://bbyo.org/bbyo-near-you/regions/lake-ontario-
 region/tournies-weekend-2024
DTEND:20240204T150000
DTSTAMP:20260419T123125Z
DTSTART:20240203T193000
LOCATION:
SEQUENCE:0
SUMMARY:Tournies Weekend 2024
UID:e62b876e-5876-4380-8e70-1298a58cbcb0
END:VEVENT
END:VCALENDAR
