BEGIN:VCALENDAR
PRODID:-//github.com/rianjs/ical.net//NONSGML ical.net 4.0//EN
VERSION:2.0
BEGIN:VEVENT
DESCRIPTION:Details:\nhttps://bbyo.org/bbyo-near-you/regions/rocky-mountai
 n-region/meetings-and-ic-launch-party-9-27\n\nSummary:\nChange the game w
 ith 3000 of your closest BBYO friends from around the world at Internatio
 nal Convention!
DTEND:20160927T193000
DTSTAMP:20260423T042601Z
DTSTART:20160927T173000
LOCATION:JCC Denver
SEQUENCE:0
SUMMARY:Meetings and IC Launch Party 9/27
UID:b0228e37-6692-425b-82fb-18f605a1832b
END:VEVENT
END:VCALENDAR
