BEGIN:VCALENDAR
PRODID:-//github.com/rianjs/ical.net//NONSGML ical.net 4.0//EN
VERSION:2.0
BEGIN:VEVENT
DESCRIPTION:Details:\nhttps://bbyo.org/bbyo-near-you/regions/north-texas-o
 klahoma-region/b-yachad-convnetion-final-steering-meeting
DTEND:20221103T180000
DTSTAMP:20260425T182755Z
DTSTART:20221103T160000
LOCATION:Dallas Texas
SEQUENCE:0
SUMMARY:B'yachad Convnetion Final Steering Meeting
UID:7c7740d7-1be0-4741-82f2-08aa2775a965
END:VEVENT
END:VCALENDAR
