BEGIN:VCALENDAR
PRODID:-//github.com/rianjs/ical.net//NONSGML ical.net 4.0//EN
VERSION:2.0
BEGIN:VEVENT
DESCRIPTION:Details:\nhttps://bbyo.org/bbyo-near-you/regions/northern-regi
 on-east-dc-council/fan-eric-and-happie-hour
DTEND:20180111T000100
DTSTAMP:20260422T221451Z
DTSTART;VALUE=DATE:20180111
LOCATION:
SEQUENCE:0
SUMMARY:FAN - Eric and Happie Hour
UID:7d56f0cf-a52f-45b6-b4e1-f398cfc301d7
END:VEVENT
END:VCALENDAR
