BEGIN:VCALENDAR
PRODID:-//github.com/rianjs/ical.net//NONSGML ical.net 4.0//EN
VERSION:2.0
BEGIN:VEVENT
DESCRIPTION:Details:\nhttps://bbyo.org/bbyo-near-you/regions/lonestar-regi
 on/lsr-regional-kallah-2016-pc3020-mm16
DTEND:20160306T113000
DTSTAMP:20260423T200442Z
DTSTART:20160304T190000
LOCATION:DoubleTree Greenway Plaza
SEQUENCE:0
SUMMARY:LSR-Regional Kallah 2016-PC3020 MM16
UID:a46bc97d-678e-4909-84af-e9d078ef02b6
END:VEVENT
END:VCALENDAR
