BEGIN:VCALENDAR
PRODID:-//github.com/rianjs/ical.net//NONSGML ical.net 4.0//EN
VERSION:2.0
BEGIN:VEVENT
DESCRIPTION:Details:\nhttps://bbyo.org/bbyo-near-you/regions/greater-jerse
 y-region/gjhrr-2019-nyc-museum-day-(northern-council-bussin\n\nSummary:\n
 Join your friends of GJHRR for a day filled with history in the greatest 
 city in the world!  \n\nSpend the afternoon having a nosh at the famous C
 helsea Market followed by an important MUST SEE exhibit at the Jewish Her
 itage Museum.  This groundbreaking exhibition brings together more than 7
 00 original objects and 400 photographs from over 20 institutions and mus
 eums around the world. Auschwitz. Not long ago. Not far away. is the most
  comprehensive exhibition dedicated to the history of Auschwitz and its r
 ole in the Holocaust ever presented in North America. \n\nThis exhibit wi
 ll only be in New York City for a short while longer\, and GJHRR was able
  to plan this very special visit! Be a part of keeping our history rememb
 ered!\n\nIf you need the Marlboro or Clark stop\, please see Central Coun
 cil signups!\n\nParamus Bus Departs at 9:00am\nLivingston Bus Departs 9:4
 5am\nLunch at Chelsea market will be prior to our museum visit at 1pm.  M
 useum tour ends at approximately 3pm and buses will begin their return ba
 ck to NJ. Travel time will be determined based on traffic.  \n\nPlease pl
 an to bring additional money for lunch and souvenirs.  Register today\, a
 s space is limited!\n
DTEND:20191108T170000
DTSTAMP:20260423T225232Z
DTSTART:20191108T090000
LOCATION:New York New York
SEQUENCE:0
SUMMARY:GJHRR 2019 NYC Museum Day (Northern Council Bussing)
UID:74b6b6c8-8a90-44a2-98b2-ceb14d9460cc
END:VEVENT
END:VCALENDAR
