BEGIN:VCALENDAR
PRODID:-//github.com/rianjs/ical.net//NONSGML ical.net 4.0//EN
VERSION:2.0
BEGIN:VEVENT
DESCRIPTION:Details:\nhttps://bbyo.org/bbyo-near-you/regions/lake-ontario-
 region/lor-2016-05-04-israeli-culture-night
DTEND:20160504T200000
DTSTAMP:20260422T113649Z
DTSTART:20160504T183000
LOCATION:Schwartz/Reisman Centre
SEQUENCE:0
SUMMARY:LOR 2016-05-04 - Israeli Culture Night
UID:b84232a2-1218-4819-93d1-bf87be06cbbd
END:VEVENT
END:VCALENDAR
