BEGIN:VCALENDAR
PRODID:-//github.com/rianjs/ical.net//NONSGML ical.net 4.0//EN
VERSION:2.0
BEGIN:VEVENT
DESCRIPTION:Details:\nhttps://bbyo.org/bbyo-near-you/regions/central-regio
 n-west/central-region-west-fall-convention-kallah
DTEND:20211017T120000
DTSTAMP:20260421T002212Z
DTSTART:20211015T170000
LOCATION:Saratoga California
SEQUENCE:0
SUMMARY:Central Region West Fall Convention: Kallah
UID:afc299c6-8d42-4dbc-a603-657d22994aac
END:VEVENT
END:VCALENDAR
