BEGIN:VCALENDAR
PRODID:-//github.com/rianjs/ical.net//NONSGML ical.net 4.0//EN
VERSION:2.0
BEGIN:VEVENT
DESCRIPTION:Details:\nhttps://bbyo.org/bbyo-near-you/regions/lake-ontario-
 region/bbyo-connect-niagara-falls-day-trip\n\nSummary:\n All students in 
 Grades 6 to 8 are invited to join us for our annual BBYO Connect Niagara 
 Falls Day Trip.
DTEND:20190505T200000
DTSTAMP:20260423T093329Z
DTSTART:20190505T100000
LOCATION:Niagara Falls
SEQUENCE:0
SUMMARY:BBYO Connect: Niagara Falls Day Trip
UID:08e4924d-5d6f-4315-a232-eb28cd3ee69f
END:VEVENT
END:VCALENDAR
