BEGIN:VCALENDAR
PRODID:-//github.com/rianjs/ical.net//NONSGML ical.net 4.0//EN
VERSION:2.0
BEGIN:VEVENT
DESCRIPTION:Details:\nhttps://bbyo.org/bbyo-near-you/regions/north-texas-o
 klahoma-region/pin-stack-bowling-with-8th-graders
DTEND:20191215T193000
DTSTAMP:20260420T153617Z
DTSTART:20191215T173000
LOCATION:Plano Texas
SEQUENCE:0
SUMMARY:Pin Stack Bowling with 8th graders
UID:55657bf7-d984-4e8f-bbd4-eee2d8736444
END:VEVENT
END:VCALENDAR
