BEGIN:VCALENDAR
PRODID:-//github.com/rianjs/ical.net//NONSGML ical.net 4.0//EN
VERSION:2.0
BEGIN:VEVENT
DESCRIPTION:Details:\nhttps://bbyo.org/bbyo-near-you/regions/nassau-suffol
 k-region/project-hope-2005
DTEND;VALUE=DATE:20051218
DTSTAMP:20260421T221011Z
DTSTART;VALUE=DATE:20051218
LOCATION:
SEQUENCE:0
SUMMARY:Project Hope 2005
UID:36ec005a-d7ef-4e9b-a6cc-42f2fa2e212d
END:VEVENT
END:VCALENDAR
