BEGIN:VCALENDAR
PRODID:-//github.com/rianjs/ical.net//NONSGML ical.net 4.0//EN
VERSION:2.0
BEGIN:VEVENT
DESCRIPTION:Details:\nhttps://bbyo.org/bbyo-near-you/regions/eastern-regio
 n/ohavim/ohavim-t-shirts
DTEND;VALUE=DATE:20190228
DTSTAMP:20260423T042601Z
DTSTART:20190131T110000
LOCATION:
SEQUENCE:0
SUMMARY:Ohavim T-Shirts
UID:9c170bd8-2bfe-4341-9f2f-0bc79f62ed9a
END:VEVENT
END:VCALENDAR
