BEGIN:VCALENDAR
PRODID:-//github.com/rianjs/ical.net//NONSGML ical.net 4.0//EN
VERSION:2.0
BEGIN:VEVENT
DESCRIPTION:Details:\nhttps://bbyo.org/bbyo-near-you/regions/wisconsin-reg
 ion/wi-bbyo-connect-bucks-(pc5110)
DTEND;VALUE=DATE:20151212
DTSTAMP:20260419T122639Z
DTSTART;VALUE=DATE:20151212
LOCATION:
SEQUENCE:0
SUMMARY:WI - BBYO Connect - Bucks (PC5110)
UID:5f30321e-0c28-4efe-be7d-0088b5ef05f3
END:VEVENT
END:VCALENDAR
