BEGIN:VCALENDAR
PRODID:-//github.com/rianjs/ical.net//NONSGML ical.net 4.0//EN
VERSION:2.0
BEGIN:VEVENT
DESCRIPTION:Details:\nhttps://bbyo.org/bbyo-near-you/regions/central-regio
 n-west/house-of-neshikoad-(hod\,-neshikot\,-moad)-take-the-
DTEND:20181110T220000
DTSTAMP:20260422T101237Z
DTSTART:20181110T164500
LOCATION:Addison-Penzak JCC
SEQUENCE:0
SUMMARY:House of NeshikoAd (Hod\, Neshikot\, MoAd) Take the APJCC Gala!
UID:bc80ab50-3c43-4701-8342-69f1ed279f82
END:VEVENT
END:VCALENDAR
