BEGIN:VCALENDAR
PRODID:-//github.com/rianjs/ical.net//NONSGML ical.net 4.0//EN
VERSION:2.0
BEGIN:VEVENT
DESCRIPTION:Details:\nhttps://bbyo.org/bbyo-near-you/regions/greater-jerse
 y-region/gjhrr-northern-council-spirit-convention-2019-(1)
DTEND:20191215T120000
DTSTAMP:20260419T113806Z
DTSTART:20191213T170000
LOCATION:Livingston New Jersey
SEQUENCE:0
SUMMARY:GJHRR NORTHERN COUNCIL SPIRIT CONVENTION 2019
UID:3a4f1993-2e2d-4160-964f-f4df91dcf35a
END:VEVENT
END:VCALENDAR
