BEGIN:VCALENDAR
PRODID:-//github.com/rianjs/ical.net//NONSGML ical.net 4.0//EN
VERSION:2.0
BEGIN:VEVENT
DESCRIPTION:Details:\nhttps://bbyo.org/bbyo-near-you/regions/mid-america-r
 egion-st-louis-council/board-training-dinner
DTEND:20240129T203000
DTSTAMP:20260423T091757Z
DTSTART:20240129T183000
LOCATION:J East
SEQUENCE:0
SUMMARY:Board Training & Dinner
UID:1597605b-3793-4b92-ba85-7a8c0feca5d1
END:VEVENT
END:VCALENDAR
