BEGIN:VCALENDAR
PRODID:-//github.com/rianjs/ical.net//NONSGML ical.net 4.0//EN
VERSION:2.0
BEGIN:VEVENT
DESCRIPTION:Details:\nhttps://bbyo.org/bbyo-near-you/regions/ohio-northern
 -region/onr-kallah-convention-2020-back-to-the-future\n\nSummary:\nVirtua
 l Kallah Convention 2020\n\nGet excited for our first major convention of
  the year\, Kallah Convention: Back to the Future! Kallah Convention focu
 ses on exploring our Jewish identities\, o
DTEND:20201115T123000
DTSTAMP:20260423T200719Z
DTSTART:20201113T190000
LOCATION:Online with In-Person Components
SEQUENCE:0
SUMMARY:ONR Kallah Convention 2020: Back to the Future
UID:2ff6834e-ed47-4d8c-a5a8-d911272240b5
END:VEVENT
END:VCALENDAR
