BEGIN:VCALENDAR
PRODID:-//github.com/rianjs/ical.net//NONSGML ical.net 4.0//EN
VERSION:2.0
BEGIN:VEVENT
DESCRIPTION:Details:\nhttps://bbyo.org/bbyo-near-you/regions/mountain-regi
 on/mountain-region-fall-kallah-convention\n\nSummary:\nGet excited for Fa
 ll Kallah 2020!!! November 13-15\, on zoom! Full of interactive programmi
 ng\, led by your Regional Shlichim\, Joey Varcoe and Lindsey Stevens!
DTEND:20201115T120000
DTSTAMP:20260423T132036Z
DTSTART:20201113T170000
LOCATION:Virtual
SEQUENCE:0
SUMMARY:Mountain Region Fall Kallah Convention
UID:0affdb32-5af4-49e2-9bdb-89a49dde4cc2
END:VEVENT
END:VCALENDAR
