BEGIN:VCALENDAR
PRODID:-//github.com/rianjs/ical.net//NONSGML ical.net 4.0//EN
VERSION:2.0
BEGIN:VEVENT
DESCRIPTION:Details:\nhttps://bbyo.org/bbyo-near-you/regions/michigan-regi
 on/bubble-soccer-kickoff-shapiro
DTEND:20200125T210000
DTSTAMP:20260423T133831Z
DTSTART:20200125T190000
LOCATION:Total Sports Farmington
SEQUENCE:0
SUMMARY:Bubble Soccer Kickoff Shapiro
UID:e2e73eb2-0ba5-4c80-95c3-4f6890b69363
END:VEVENT
END:VCALENDAR
