BEGIN:VCALENDAR
PRODID:-//github.com/rianjs/ical.net//NONSGML ical.net 4.0//EN
VERSION:2.0
BEGIN:VEVENT
DESCRIPTION:Details:\nhttps://bbyo.org/bbyo-near-you/regions/eastern-regio
 n/eastern-regional-convention-(4-to-a-room)
DTEND:20211219T140000
DTSTAMP:20260423T020725Z
DTSTART:20211217T150000
LOCATION:
SEQUENCE:0
SUMMARY:Eastern Regional Convention (4 to a Room)
UID:c4d0da17-a310-45db-86c2-669525ce4cac
END:VEVENT
END:VCALENDAR
