BEGIN:VCALENDAR
PRODID:-//github.com/rianjs/ical.net//NONSGML ical.net 4.0//EN
VERSION:2.0
BEGIN:VEVENT
DESCRIPTION:Details:\nhttps://bbyo.org/bbyo-near-you/regions/greater-jerse
 y-region/gjhrr-northern-council-spirit-2016-(pc-3030)
DTEND:20161218T150000
DTSTAMP:20260420T132612Z
DTSTART:20161216T180000
LOCATION:Kaplen JCC
SEQUENCE:0
SUMMARY:GJHRR Northern Council Spirit 2016 (PC 3030)
UID:11b91464-85b3-4d7e-96a0-a84e85d35a7f
END:VEVENT
END:VCALENDAR
