BEGIN:VCALENDAR
PRODID:-//github.com/rianjs/ical.net//NONSGML ical.net 4.0//EN
VERSION:2.0
BEGIN:VEVENT
DESCRIPTION:Details:\nhttps://bbyo.org/bbyo-near-you/regions/greater-jerse
 y-region/masquerade-ball
DTEND:20060325T233000
DTSTAMP:20260421T234321Z
DTSTART:20060325T193000
LOCATION:Washington Township Y
SEQUENCE:0
SUMMARY:Masquerade Ball
UID:f1399c31-df79-4bd2-ad67-c155dc814ed3
END:VEVENT
END:VCALENDAR
