BEGIN:VCALENDAR
PRODID:-//github.com/rianjs/ical.net//NONSGML ical.net 4.0//EN
VERSION:2.0
BEGIN:VEVENT
DESCRIPTION:Details:\nhttps://bbyo.org/bbyo-near-you/regions/north-florida
 -region/nfr-orlando-spring-kick-off-02-05-2006
DTEND;VALUE=DATE:20060205
DTSTAMP:20260423T195528Z
DTSTART;VALUE=DATE:20060205
LOCATION:
SEQUENCE:0
SUMMARY:NFR - Orlando Spring Kick-Off: 02-05-2006
UID:d12ce164-d596-4e97-9844-dfb4a9302195
END:VEVENT
END:VCALENDAR
