BEGIN:VCALENDAR
PRODID:-//github.com/rianjs/ical.net//NONSGML ical.net 4.0//EN
VERSION:2.0
BEGIN:VEVENT
DESCRIPTION:Details:\nhttps://bbyo.org/bbyo-near-you/regions/lake-ontario-
 region/tc-amazing-race-(1)
DTEND:20051211T160000
DTSTAMP:20260421T163614Z
DTSTART:20051002T130000
LOCATION:
SEQUENCE:0
SUMMARY:TC Amazing Race
UID:4982723e-ff45-4468-b470-bb325571ce20
END:VEVENT
END:VCALENDAR
