BEGIN:VCALENDAR
PRODID:-//github.com/rianjs/ical.net//NONSGML ical.net 4.0//EN
VERSION:2.0
BEGIN:VEVENT
DESCRIPTION:Details:\nhttps://bbyo.org/bbyo-near-you/regions/delta-region/
 csr-ic-call-020818
DTEND:20180208T000100
DTSTAMP:20260421T083925Z
DTSTART;VALUE=DATE:20180208
LOCATION:
SEQUENCE:0
SUMMARY:CSR IC CALL 020818
UID:d9f614b3-e3a2-4a0d-96e0-d401c7a28d70
END:VEVENT
END:VCALENDAR
