BEGIN:VCALENDAR
PRODID:-//github.com/rianjs/ical.net//NONSGML ical.net 4.0//EN
VERSION:2.0
BEGIN:VEVENT
DESCRIPTION:Details:\nhttps://bbyo.org/bbyo-near-you/regions/north-florida
 -region/north-florida-region-src
DTEND;VALUE=DATE:20180422
DTSTAMP:20260424T062349Z
DTSTART;VALUE=DATE:20180420
LOCATION:
SEQUENCE:0
SUMMARY:North Florida Region SRC
UID:855ae418-15c0-4252-903d-8f26b7fedb81
END:VEVENT
END:VCALENDAR
