BEGIN:VCALENDAR
PRODID:-//github.com/rianjs/ical.net//NONSGML ical.net 4.0//EN
VERSION:2.0
BEGIN:VEVENT
DESCRIPTION:Details:\nhttps://bbyo.org/bbyo-near-you/regions/miami-region/
 miami-bbyo-fall-fest-foam-party
DTEND:20171118T000100
DTSTAMP:20260423T020532Z
DTSTART;VALUE=DATE:20171118
LOCATION:
SEQUENCE:0
SUMMARY:Miami BBYO Fall Fest Foam Party
UID:d9d63377-e8ac-455a-beb8-e55f97234579
END:VEVENT
END:VCALENDAR
