BEGIN:VCALENDAR
PRODID:-//github.com/rianjs/ical.net//NONSGML ical.net 4.0//EN
VERSION:2.0
BEGIN:VEVENT
DESCRIPTION:Details:\nhttps://bbyo.org/bbyo-near-you/regions/northern-regi
 on-east-northern-virginia-council/global-shabbat-a-shabbat-to-remember\n\
 nSummary:\nJoin us as we celebrate Global Shabbat along with the Internat
 ional Order!  We will be doing programming around the Holocaust\, Israel\
 , identity\, and more.  We will end the evening with Havad
DTEND:20151107T180000
DTSTAMP:20260425T183358Z
DTSTART:20151107T150000
LOCATION:Fairfax JCC
SEQUENCE:0
SUMMARY:Global Shabbat- A Shabbat to Remember
UID:355ff62b-d656-4005-b577-1a0bc2dc884c
END:VEVENT
END:VCALENDAR
