BEGIN:VCALENDAR
PRODID:-//github.com/rianjs/ical.net//NONSGML ical.net 4.0//EN
VERSION:2.0
BEGIN:VEVENT
DESCRIPTION:Details:\nhttps://bbyo.org/bbyo-near-you/regions/evergreen-reg
 ion/egr-seattle-global-shabbat-a-shabbat-to-remembe\n\nSummary:\nAll teen
 s and families: Join us as we celebrate a "Shabbat to Remember"\, as we w
 elcome Shabbat and honor our community's Holocaust Survivors.
DTEND:20151106T203000
DTSTAMP:20260422T020107Z
DTSTART:20151106T190000
LOCATION:Stroum Jewish Community Center
SEQUENCE:0
SUMMARY:EGR - Seattle Global Shabbat: A Shabbat to Remember (PC4000)
UID:307f7ebf-8532-48b6-95f9-304fba7b7550
END:VEVENT
END:VCALENDAR
