BEGIN:VCALENDAR
PRODID:-//github.com/rianjs/ical.net//NONSGML ical.net 4.0//EN
VERSION:2.0
BEGIN:VEVENT
DESCRIPTION:Details:\nhttps://bbyo.org/bbyo-near-you/regions/lake-ontario-
 region/lor-2016-01-09-beauheart-ball-2016
DTEND;VALUE=DATE:20160110
DTSTAMP:20260423T215027Z
DTSTART:20160109T200000
LOCATION:Schwartz/Reisman Centre
SEQUENCE:0
SUMMARY:LOR 2016-01-09 - Beauheart Ball 2016
UID:ce5c00bf-92f0-4be8-8805-41ece6f0cf09
END:VEVENT
END:VCALENDAR
